BEGIN:VCALENDAR
VERSION:2.0
PRODID:-//Mjörnbygdens - ECPv6.15.20//NONSGML v1.0//EN
CALSCALE:GREGORIAN
METHOD:PUBLISH
X-ORIGINAL-URL:https://mjornbygdensnaturcentrum.se
X-WR-CALDESC:Händelser för Mjörnbygdens
REFRESH-INTERVAL;VALUE=DURATION:PT1H
X-Robots-Tag:noindex
X-PUBLISHED-TTL:PT1H
BEGIN:VTIMEZONE
TZID:Europe/Stockholm
BEGIN:DAYLIGHT
TZOFFSETFROM:+0100
TZOFFSETTO:+0200
TZNAME:CEST
DTSTART:20220327T010000
END:DAYLIGHT
BEGIN:STANDARD
TZOFFSETFROM:+0200
TZOFFSETTO:+0100
TZNAME:CET
DTSTART:20221030T010000
END:STANDARD
BEGIN:DAYLIGHT
TZOFFSETFROM:+0100
TZOFFSETTO:+0200
TZNAME:CEST
DTSTART:20230326T010000
END:DAYLIGHT
BEGIN:STANDARD
TZOFFSETFROM:+0200
TZOFFSETTO:+0100
TZNAME:CET
DTSTART:20231029T010000
END:STANDARD
BEGIN:DAYLIGHT
TZOFFSETFROM:+0100
TZOFFSETTO:+0200
TZNAME:CEST
DTSTART:20240331T010000
END:DAYLIGHT
BEGIN:STANDARD
TZOFFSETFROM:+0200
TZOFFSETTO:+0100
TZNAME:CET
DTSTART:20241027T010000
END:STANDARD
END:VTIMEZONE
BEGIN:VEVENT
DTSTART;TZID=Europe/Stockholm:20230720T170000
DTEND;TZID=Europe/Stockholm:20230720T200000
DTSTAMP:20260420T153454
CREATED:20230122T162328Z
LAST-MODIFIED:20230122T162328Z
UID:1908-1689872400-1689883200@mjornbygdensnaturcentrum.se
SUMMARY:Slåtter med liekurs vid Ornunga g:a kyrka kl. 17.00
DESCRIPTION:Första timman introduktion med lie. Fika ingår. Vid frågor Göran Frantz 070 720 32 17
URL:https://mjornbygdensnaturcentrum.se/evenemang/slatter-med-liekurs-vid-ornunga-ga-kyrka-kl-17-00/
ORGANIZER;CN="Naturskyddsf%C3%B6reningen%C2%A0V%C3%A5rg%C3%A5rda":MAILTO:hallenrud@ljurhalla.com
END:VEVENT
END:VCALENDAR