BEGIN:VCALENDAR
VERSION:2.0
PRODID:-//Mjörnbygdens - ECPv6.15.20//NONSGML v1.0//EN
CALSCALE:GREGORIAN
METHOD:PUBLISH
X-ORIGINAL-URL:https://mjornbygdensnaturcentrum.se
X-WR-CALDESC:Händelser för Mjörnbygdens
REFRESH-INTERVAL;VALUE=DURATION:PT1H
X-Robots-Tag:noindex
X-PUBLISHED-TTL:PT1H
BEGIN:VTIMEZONE
TZID:Europe/Stockholm
BEGIN:DAYLIGHT
TZOFFSETFROM:+0100
TZOFFSETTO:+0200
TZNAME:CEST
DTSTART:20220327T010000
END:DAYLIGHT
BEGIN:STANDARD
TZOFFSETFROM:+0200
TZOFFSETTO:+0100
TZNAME:CET
DTSTART:20221030T010000
END:STANDARD
BEGIN:DAYLIGHT
TZOFFSETFROM:+0100
TZOFFSETTO:+0200
TZNAME:CEST
DTSTART:20230326T010000
END:DAYLIGHT
BEGIN:STANDARD
TZOFFSETFROM:+0200
TZOFFSETTO:+0100
TZNAME:CET
DTSTART:20231029T010000
END:STANDARD
BEGIN:DAYLIGHT
TZOFFSETFROM:+0100
TZOFFSETTO:+0200
TZNAME:CEST
DTSTART:20240331T010000
END:DAYLIGHT
BEGIN:STANDARD
TZOFFSETFROM:+0200
TZOFFSETTO:+0100
TZNAME:CET
DTSTART:20241027T010000
END:STANDARD
END:VTIMEZONE
BEGIN:VEVENT
DTSTART;TZID=Europe/Stockholm:20230916T120000
DTEND;TZID=Europe/Stockholm:20230916T130000
DTSTAMP:20260422T184356
CREATED:20230829T180816Z
LAST-MODIFIED:20230829T180816Z
UID:2115-1694865600-1694869200@mjornbygdensnaturcentrum.se
SUMMARY:Klimatmanifestation vid Speakers Corner\, Lilla Torget 16 sept
DESCRIPTION:Nu har du chansen att ta ställning och visa var du står i klimatfrågan!\nVik Lördagen den 16 september och kom på klimatgruppens möte kl 12–13 vid Speakers Corner\, Lilla torget. Tal av Gunilla Rödström\, musik och texter om vårt förhållande till naturen.\n\n\nTrots all kunskap om klimatförändringarna och FN:s senaste klimatrapport som säger att vi har en sista chans att rädda vår planet från irreparabla skador om vi fram till 2030 kraftigt minskar de fossila utsläppen.\nTrots detta planerar flera länder att bygga ut och starta nya oljekällor\, Norges Breidablikkfältet och Storbritanniens nya oljefält\, Rosebanks\, båda belägna i Nordsjön. USA har gett klartecken att borra efter olja i Alaska.\nSom bekant agerar vår egen regering tvärtemot all logik och kunskap.\n\n\nDet brådskar\, därför har ett 30-tal grupper och rörelser startat ett nätverk för att arbeta tillsammans för klimatet och social rättvisa. De bjuder in till ”Action week för social- och klimaträttvisa” infaller mellan 15:e och 22:a september. Vårt bidrag i Alingsås klimatgrupp blir mötet ovan.
URL:https://mjornbygdensnaturcentrum.se/evenemang/klimatmanifestation-vid-speakers-corner-lilla-torget-16-sept/
LOCATION:Lilla torget\, Lilla torget 1\, Alingsås\, 44130
END:VEVENT
BEGIN:VEVENT
DTSTART;TZID=Europe/Stockholm:20230926T183000
DTEND;TZID=Europe/Stockholm:20230926T203000
DTSTAMP:20260422T184356
CREATED:20230122T162849Z
LAST-MODIFIED:20230122T162849Z
UID:1916-1695753000-1695760200@mjornbygdensnaturcentrum.se
SUMMARY:”Klimatprat”
DESCRIPTION:Biblioteket kl. 18.30. Marie Stenseke professor i kulturgeografi\, föreläser utifrån sitt engagemang i IPBES\, internationell plattform för biologisk mångfald. Fritt inträde I samarrangemang med Vårgårda Kommun och FN-föreningen Ansv Lina Blomdahl 070 238 08 39
URL:https://mjornbygdensnaturcentrum.se/evenemang/klimatprat-2/
ORGANIZER;CN="Naturskyddsf%C3%B6reningen%C2%A0V%C3%A5rg%C3%A5rda":MAILTO:hallenrud@ljurhalla.com
END:VEVENT
END:VCALENDAR