BEGIN:VCALENDAR
VERSION:2.0
PRODID:-//Mjörnbygdens - ECPv6.15.20//NONSGML v1.0//EN
CALSCALE:GREGORIAN
METHOD:PUBLISH
X-ORIGINAL-URL:https://mjornbygdensnaturcentrum.se
X-WR-CALDESC:Händelser för Mjörnbygdens
REFRESH-INTERVAL;VALUE=DURATION:PT1H
X-Robots-Tag:noindex
X-PUBLISHED-TTL:PT1H
BEGIN:VTIMEZONE
TZID:Europe/Stockholm
BEGIN:DAYLIGHT
TZOFFSETFROM:+0100
TZOFFSETTO:+0200
TZNAME:CEST
DTSTART:20230326T010000
END:DAYLIGHT
BEGIN:STANDARD
TZOFFSETFROM:+0200
TZOFFSETTO:+0100
TZNAME:CET
DTSTART:20231029T010000
END:STANDARD
BEGIN:DAYLIGHT
TZOFFSETFROM:+0100
TZOFFSETTO:+0200
TZNAME:CEST
DTSTART:20240331T010000
END:DAYLIGHT
BEGIN:STANDARD
TZOFFSETFROM:+0200
TZOFFSETTO:+0100
TZNAME:CET
DTSTART:20241027T010000
END:STANDARD
BEGIN:DAYLIGHT
TZOFFSETFROM:+0100
TZOFFSETTO:+0200
TZNAME:CEST
DTSTART:20250330T010000
END:DAYLIGHT
BEGIN:STANDARD
TZOFFSETFROM:+0200
TZOFFSETTO:+0100
TZNAME:CET
DTSTART:20251026T010000
END:STANDARD
END:VTIMEZONE
BEGIN:VEVENT
DTSTART;TZID=Europe/Stockholm:20240804T100000
DTEND;TZID=Europe/Stockholm:20240804T140000
DTSTAMP:20260421T163217
CREATED:20240709T161641Z
LAST-MODIFIED:20240709T161641Z
UID:2367-1722765600-1722780000@mjornbygdensnaturcentrum.se
SUMMARY:Slåtter på Ranahults ängar
DESCRIPTION:När blommorna fröat klart är det dags att ta fram liarna och krattorna för slåtter på naturreservatet Ranahult. \n\nVi uppmärksammar Ängens dag med slåtter i reservatet. Slåttern gör att den speciella floran kan bevaras. \nDet finns möjlighet att prova på att slå med lie. Det finns krattor och liar att låna på plats. \nVi bjuder på förtäring
URL:https://mjornbygdensnaturcentrum.se/evenemang/slatter-pa-ranahults-angar/
LOCATION:Ranahult\, Ranahults naturreservat\, Larv/Fåglavik
ORGANIZER;CN="Naturskyddsf%C3%B6reningen i Vara":MAILTO:tomas.lindstrom@telia.com
END:VEVENT
BEGIN:VEVENT
DTSTART;TZID=Europe/Stockholm:20240807T170000
DTEND;TZID=Europe/Stockholm:20240807T200000
DTSTAMP:20260421T163217
CREATED:20240309T101335Z
LAST-MODIFIED:20240528T181617Z
UID:2239-1723050000-1723060800@mjornbygdensnaturcentrum.se
SUMMARY:Slåtter med liekurs
DESCRIPTION:vid SNF-stugan bakom Algutstorpsgården kl. 17.00. \nFörsta timmen introduktion med lie \nVid frågor Göran Frantz 070 720 32 17
URL:https://mjornbygdensnaturcentrum.se/evenemang/slatter-med-liekurs/
ORGANIZER;CN="Naturskyddsf%C3%B6reningen%C2%A0V%C3%A5rg%C3%A5rda":MAILTO:hallenrud@ljurhalla.com
END:VEVENT
END:VCALENDAR