BEGIN:VCALENDAR
VERSION:2.0
PRODID:-//Mjörnbygdens - ECPv6.15.20//NONSGML v1.0//EN
CALSCALE:GREGORIAN
METHOD:PUBLISH
X-WR-CALNAME:Mjörnbygdens
X-ORIGINAL-URL:https://mjornbygdensnaturcentrum.se
X-WR-CALDESC:Händelser för Mjörnbygdens
REFRESH-INTERVAL;VALUE=DURATION:PT1H
X-Robots-Tag:noindex
X-PUBLISHED-TTL:PT1H
BEGIN:VTIMEZONE
TZID:Europe/Stockholm
BEGIN:DAYLIGHT
TZOFFSETFROM:+0100
TZOFFSETTO:+0200
TZNAME:CEST
DTSTART:20220327T010000
END:DAYLIGHT
BEGIN:STANDARD
TZOFFSETFROM:+0200
TZOFFSETTO:+0100
TZNAME:CET
DTSTART:20221030T010000
END:STANDARD
BEGIN:DAYLIGHT
TZOFFSETFROM:+0100
TZOFFSETTO:+0200
TZNAME:CEST
DTSTART:20230326T010000
END:DAYLIGHT
BEGIN:STANDARD
TZOFFSETFROM:+0200
TZOFFSETTO:+0100
TZNAME:CET
DTSTART:20231029T010000
END:STANDARD
BEGIN:DAYLIGHT
TZOFFSETFROM:+0100
TZOFFSETTO:+0200
TZNAME:CEST
DTSTART:20240331T010000
END:DAYLIGHT
BEGIN:STANDARD
TZOFFSETFROM:+0200
TZOFFSETTO:+0100
TZNAME:CET
DTSTART:20241027T010000
END:STANDARD
END:VTIMEZONE
BEGIN:VEVENT
DTSTART;TZID=Europe/Stockholm:20230610T100000
DTEND;TZID=Europe/Stockholm:20230610T160000
DTSTAMP:20260422T141044
CREATED:20230320T085324Z
LAST-MODIFIED:20230320T085324Z
UID:1948-1686391200-1686412800@mjornbygdensnaturcentrum.se
SUMMARY:Liekurs i Dammsjöås
DESCRIPTION:10.00–16.00 med ”LieMats” Mats ­Rosen­gren.\nEn mycket bra kurs för dig som vill lära dig att hantera lie från grunden.\nVi träffas på Dammsjöås klockan 10.00\, med oömma kläder och matsäck. Det kommer finnas liar att låna som räcker till minst 10 personer. Har du egen lie så ta med den.\nKursen pågår till 16.00 med avbrott för fika och lunch. Möjligheter att grilla finns.\nAntal deltagare är begränsat till 10. Personer från Alingsås och Vårgårda kommuner har företräde.\nAnmälan sker per telefon eller sms till Mats Andersson på 0706-18 81 23.\nSista anmälningsdag är 31/5. Vid för få anmälningar ställs kursen in.\nKursavgiften 500 kr betalas vid kurstillfället.\nHör gärna av dig till Mats Andersson 0706-18 81 23 om du undrar något.\nLiekursen är ett samarbete med Studiefrämjandet och Alingsås Hembygdsförening.
URL:https://mjornbygdensnaturcentrum.se/evenemang/liekurs-i-dammsjoas/
LOCATION:Dammsjöås\, Dammsjöåsvägen 45\, Alingsås\, 44195\, Sverige
CATEGORIES:Dammsjöås
END:VEVENT
END:VCALENDAR