BEGIN:VCALENDAR
VERSION:2.0
PRODID:-//Mjörnbygdens - ECPv6.15.20//NONSGML v1.0//EN
CALSCALE:GREGORIAN
METHOD:PUBLISH
X-WR-CALNAME:Mjörnbygdens
X-ORIGINAL-URL:https://mjornbygdensnaturcentrum.se
X-WR-CALDESC:Händelser för Mjörnbygdens
REFRESH-INTERVAL;VALUE=DURATION:PT1H
X-Robots-Tag:noindex
X-PUBLISHED-TTL:PT1H
BEGIN:VTIMEZONE
TZID:Europe/Stockholm
BEGIN:DAYLIGHT
TZOFFSETFROM:+0100
TZOFFSETTO:+0200
TZNAME:CEST
DTSTART:20230326T010000
END:DAYLIGHT
BEGIN:STANDARD
TZOFFSETFROM:+0200
TZOFFSETTO:+0100
TZNAME:CET
DTSTART:20231029T010000
END:STANDARD
BEGIN:DAYLIGHT
TZOFFSETFROM:+0100
TZOFFSETTO:+0200
TZNAME:CEST
DTSTART:20240331T010000
END:DAYLIGHT
BEGIN:STANDARD
TZOFFSETFROM:+0200
TZOFFSETTO:+0100
TZNAME:CET
DTSTART:20241027T010000
END:STANDARD
BEGIN:DAYLIGHT
TZOFFSETFROM:+0100
TZOFFSETTO:+0200
TZNAME:CEST
DTSTART:20250330T010000
END:DAYLIGHT
BEGIN:STANDARD
TZOFFSETFROM:+0200
TZOFFSETTO:+0100
TZNAME:CET
DTSTART:20251026T010000
END:STANDARD
END:VTIMEZONE
BEGIN:VEVENT
DTSTART;TZID=Europe/Stockholm:20240505T100000
DTEND;TZID=Europe/Stockholm:20240505T133000
DTSTAMP:20260419T233122
CREATED:20240314T140739Z
LAST-MODIFIED:20240314T140739Z
UID:2316-1714903200-1714915800@mjornbygdensnaturcentrum.se
SUMMARY:Naturvandring Gotaleden med nya fiskvägar Floda Hillefors
DESCRIPTION:Stefan Larsson tar oss med på en vandring från Floda längs med Säveån till Hillefors där den första fiskvägen för öring nu äntligen skall stå klar! Vi samlas vid Floda Station kl. 10.00. Vi går därefter på egen hand tillbaka till Floda eller Stenkullen station. Gotaledens sträckning utmed Säveån anses vara den vackraste delsträckan på hela dess sträckning mellan Göteborg och Alingsås! Längd ca 4km\, ta med fika! Frågor: Stefan\, tel. 0727-005964.
URL:https://mjornbygdensnaturcentrum.se/evenemang/naturvandring-gotaleden-med-nya-fiskvagar-floda-hillefors/
LOCATION:Floda station
ORGANIZER;CN="Lerums Naturskyddsf%C3%B6rening":MAILTO:nilssobo@gmail.com
END:VEVENT
BEGIN:VEVENT
DTSTART;TZID=Europe/Stockholm:20240505T110000
DTEND;TZID=Europe/Stockholm:20240505T130000
DTSTAMP:20260419T233122
CREATED:20240314T140941Z
LAST-MODIFIED:20240314T140941Z
UID:2318-1714906800-1714914000@mjornbygdensnaturcentrum.se
SUMMARY:Natursnokarna - Håva i Säveån
DESCRIPTION:Vi ses för vår årliga koll på hur det ser ut med livet under vattnet. Kanske hittar vi några grodyngel.\nIngen brasa tyvärr! Men fika kommer vi göra. Plats: Säveån. Tid: Kl. 11-13. Samling: Parkering vid Stenkullens station. Frågor: Erika Tyrberg\, tel. 0730-301203. Mail: natursnokarna.lerum@gmail.com.
URL:https://mjornbygdensnaturcentrum.se/evenemang/natursnokarna-hava-i-savean-4/
LOCATION:Stenkullens station
ORGANIZER;CN="Lerums Naturskyddsf%C3%B6rening":MAILTO:nilssobo@gmail.com
END:VEVENT
END:VCALENDAR