BEGIN:VCALENDAR
VERSION:2.0
PRODID:-//Mjörnbygdens - ECPv6.15.20//NONSGML v1.0//EN
CALSCALE:GREGORIAN
METHOD:PUBLISH
X-WR-CALNAME:Mjörnbygdens
X-ORIGINAL-URL:https://mjornbygdensnaturcentrum.se
X-WR-CALDESC:Händelser för Mjörnbygdens
REFRESH-INTERVAL;VALUE=DURATION:PT1H
X-Robots-Tag:noindex
X-PUBLISHED-TTL:PT1H
BEGIN:VTIMEZONE
TZID:Europe/Stockholm
BEGIN:DAYLIGHT
TZOFFSETFROM:+0100
TZOFFSETTO:+0200
TZNAME:CEST
DTSTART:20230326T010000
END:DAYLIGHT
BEGIN:STANDARD
TZOFFSETFROM:+0200
TZOFFSETTO:+0100
TZNAME:CET
DTSTART:20231029T010000
END:STANDARD
BEGIN:DAYLIGHT
TZOFFSETFROM:+0100
TZOFFSETTO:+0200
TZNAME:CEST
DTSTART:20240331T010000
END:DAYLIGHT
BEGIN:STANDARD
TZOFFSETFROM:+0200
TZOFFSETTO:+0100
TZNAME:CET
DTSTART:20241027T010000
END:STANDARD
BEGIN:DAYLIGHT
TZOFFSETFROM:+0100
TZOFFSETTO:+0200
TZNAME:CEST
DTSTART:20250330T010000
END:DAYLIGHT
BEGIN:STANDARD
TZOFFSETFROM:+0200
TZOFFSETTO:+0100
TZNAME:CET
DTSTART:20251026T010000
END:STANDARD
END:VTIMEZONE
BEGIN:VEVENT
DTSTART;TZID=Europe/Stockholm:20240409T180000
DTEND;TZID=Europe/Stockholm:20240409T203000
DTSTAMP:20260420T024621
CREATED:20240328T190105Z
LAST-MODIFIED:20240328T190105Z
UID:2351-1712685600-1712694600@mjornbygdensnaturcentrum.se
SUMMARY:Återskapa naturens kylande kretslopp
DESCRIPTION:Bidra till att kyla planeten och förhindra uttorkning.\nÖka den biologiska mångfalden.\nMinska risken för översvämningar och skogsbränder. \nTrädgårdsodlare\, jord- och skogsbrukare \nDaniel Norén\, projektledare för Vatten i våra landskap\, om att skapa en mullrik jord\, som håller kvar regnvattnet i marken. \nJesper Lindblad\, trädgårdsmästare\, om parkförvaltningens ambition att skapa art- och blomrika miljöer\, till glädje för både pollinatörer och människor.
URL:https://mjornbygdensnaturcentrum.se/evenemang/aterskapa-naturens-kylande-kretslopp/
LOCATION:Brunnsgårdens samlingssal\, Norra ringgatan 8\, Alingsås\, Sverige
END:VEVENT
END:VCALENDAR